BEGIN:VCALENDAR
VERSION:2.0
PRODID:-//Tukios.com/
BEGIN:VEVENT
UID:1bf77c38-530a-4576-830e-1164a79a98cf@www.sevenoaksfuneralhome.com
DTSTAMP:20260423T030242Z
DTSTART:20260424T140000Z
DTEND:20260424T160000Z
SUMMARY:Visitation
DESCRIPTION:
URL:https://www.sevenoaksfuneralhome.com/obituaries/billy-larson
LOCATION:Seven Oaks Funeral Home 12760 Hwy 32  Water Valley MS 38965
GEO:34.1323234;-89.6521547
END:VEVENT
END:VCALENDAR