BEGIN:VCALENDAR
VERSION:2.0
PRODID:-//Tukios.com/
BEGIN:VEVENT
UID:92d3937d-4476-4da3-b8c1-5068405178a5@www.sevenoaksfuneralhome.com
DTSTAMP:20260420T003955Z
DTSTART:20260422T160000Z
DTEND:20260422T170000Z
SUMMARY:Graveside Service
DESCRIPTION:
URL:https://www.sevenoaksfuneralhome.com/obituaries/ralph-norwood
LOCATION:Jumpers Chapel 3700 Co Rd 224  Water Valley MS 38965
GEO:34.1839259;-89.5643926
END:VEVENT
END:VCALENDAR