BEGIN:VCALENDAR
VERSION:2.0
PRODID:-//Tukios.com/
BEGIN:VEVENT
UID:1e86afa3-8225-404d-9263-856a00196b6a@www.sevenoaksfuneralhome.com
DTSTAMP:20260423T172331Z
DTSTART:20260428T170000Z
DTEND:20260428T190000Z
SUMMARY:Visitation
DESCRIPTION:
URL:https://www.sevenoaksfuneralhome.com/obituaries/ruby-barr
LOCATION: 12760 Hwy 32, Water Valley, MS 38965  Water Valley MS 38965
GEO:34.132184;-89.6520017
END:VEVENT
END:VCALENDAR