BEGIN:VCALENDAR
VERSION:2.0
PRODID:-//Tukios.com/
BEGIN:VEVENT
UID:54bdace9-72a5-4f21-b863-cd22c0f36d4f@www.sevenoaksfuneralhome.com
DTSTAMP:20260423T171714Z
DTSTART:20260428T190000Z
DTEND:20260428T200000Z
SUMMARY:Funeral Service
DESCRIPTION:
URL:https://www.sevenoaksfuneralhome.com/obituaries/ruby-barr
LOCATION: 12760 Hwy 32, Water Valley, MS 38965  Water Valley MS 38965
GEO:34.132184;-89.6520017
END:VEVENT
END:VCALENDAR