BEGIN:VCALENDAR
VERSION:2.0
PRODID:-//Tukios.com/
BEGIN:VEVENT
UID:f69e50d2-5573-413d-9ac0-7d777378bf2d@www.sevenoaksfuneralhome.com
DTSTAMP:20260423T171237Z
DTSTART:20260428T200000Z
DTEND:20260428T203000Z
SUMMARY:Burial
DESCRIPTION:
URL:https://www.sevenoaksfuneralhome.com/obituaries/ruby-barr
LOCATION: 3629 County Road 225  Water Valley MS 38965
GEO:34.093698;-89.691496
END:VEVENT
END:VCALENDAR